BEGIN:VCALENDAR
VERSION:2.0
PRODID:-//ChamberMaster//Event Calendar 2.0//EN
METHOD:PUBLISH
X-PUBLISHED-TTL:P3D
REFRESH-INTERVAL:P3D
CALSCALE:GREGORIAN
BEGIN:VEVENT
DTSTART:20260424T140000Z
DTEND:20260424T220000Z
X-MICROSOFT-CDO-ALLDAYEVENT:FALSE
SUMMARY:2026 Capital Tandas - Business Consultation (1 on 1)
DESCRIPTION:Capital Tandas   Office Hours with Chase for Business\n\nNeed help funding your business? Join us for Capital Tandas   a personalized session designed to help you develop a clear\, actionable plan to access capital.\n\nCapital Tandas is a 1-on-1 office hours event where you'll meet with a Chase for Business representative to:\n\n\n	\n	Understand available funding options\n	\n	\n	Build a custom capital-readiness plan\n	\n	\n	Learn about tools to grow your business\n	\n\n\n   Date: May 29th\, 2026\n\n  Time: 9:00 AM   5:00 PM\n\n   Session Length: 1.5 hours per participant
X-ALT-DESC;FMTTYPE=text/html:<h3 data-end="185" data-start="125" style="caret-color: rgb(0\, 0\, 0)\; color: rgb(0\, 0\, 0)\;">Capital Tandas &mdash\; Office Hours with Chase for Business</h3>\n\n<p data-end="348" data-start="187" style="caret-color: rgb(0\, 0\, 0)\; color: rgb(0\, 0\, 0)\;"><strong data-end="348" data-start="187">Need help funding your business? Join us for Capital Tandas &mdash\; a personalized session designed to help you develop a clear\, actionable plan to access capital.</strong></p>\n\n<p data-end="460" data-start="350" style="caret-color: rgb(0\, 0\, 0)\; color: rgb(0\, 0\, 0)\;">Capital Tandas is a 1-on-1 office hours event where you&rsquo\;ll meet with a Chase for Business representative to:</p>\n\n<ul data-end="587" data-start="461" style="caret-color: rgb(0\, 0\, 0)\; color: rgb(0\, 0\, 0)\;">\n	<li data-end="501" data-start="461">\n	<p data-end="501" data-start="463">Understand available funding options</p>\n	</li>\n	<li data-end="543" data-start="502">\n	<p data-end="543" data-start="504">Build a custom capital-readiness plan</p>\n	</li>\n	<li data-end="587" data-start="544">\n	<p data-end="587" data-start="546">Learn about tools to grow your business</p>\n	</li>\n</ul>\n\n<p data-end="843" data-start="589" style="caret-color: rgb(0\, 0\, 0)\; color: rgb(0\, 0\, 0)\;">&#128467\;&#65039\;&nbsp\;<strong data-end="602" data-start="593">Date:</strong>&nbsp\;May 29th\, 2026<br data-end="622" data-start="619" />\n&#128344\;&nbsp\;<strong data-end="634" data-start="625">Time:</strong>&nbsp\;9:00 AM &ndash\; 5:00 PM<br data-end="655" data-start="652" />\n&#9201\;&#65039\;&nbsp\;<strong data-end="677" data-start="658">Session Length:</strong>&nbsp\;1.5 hours per participant</p>\n
LOCATION:
UID:e.2826.5119346
SEQUENCE:3
DTSTAMP:20260422T032930Z
URL:https://business.fwhcc.org/events/details/2026-capital-tandas-business-consultation-1-on-1-5119346
END:VEVENT

END:VCALENDAR
