BEGIN:VCALENDAR
VERSION:2.0
PRODID:-//ChamberMaster//Event Calendar 2.0//EN
METHOD:PUBLISH
X-PUBLISHED-TTL:P3D
REFRESH-INTERVAL:P3D
CALSCALE:GREGORIAN
BEGIN:VEVENT
DTSTART:20260429T210000Z
DTEND:20260429T230000Z
X-MICROSOFT-CDO-ALLDAYEVENT:FALSE
SUMMARY:2026 - Ribbon Cutting The Chosen Spot\, Grand Opening!
DESCRIPTION:Fort Worth\, get ready!   \n\n\n\n\n\n\n\n\nWe're cutting the ribbon and turning up the sweetness for the Grand Opening of The Chosen Spot\, and you're invited!    \n\n\n\nThe Chosen Spot is officially rolling in as Fort Worth's newest food truck serving up all the sweet vibes\, think decadent treats\, chocolate-covered strawberries\, pancakes stacked high\, coffee on the go\, and desserts made to satisfy every craving.    \n\n\n\nCome show love\, grab something delicious\, snap a photo\, and help us welcome The Chosen Spot to the neighborhood the right way.
X-ALT-DESC;FMTTYPE=text/html:<section class="text-token-text-primary w-full focus:outline-none [--shadow-height:45px] has-data-writing-block:pointer-events-none has-data-writing-block:-mt-(--shadow-height) has-data-writing-block:pt-(--shadow-height) [&amp\;:has([data-writing-block])&gt\;*]:pointer-events-auto scroll-mt-(--header-height)" data-scroll-anchor="false" data-testid="conversation-turn-31" data-turn="user" data-turn-id="1528d911-03c1-4ee5-91af-0087bbe1dedb" dir="auto"><span style="font-size:20px\;"><strong><span style="font-family: arial\;">&#128680\;&#10024\; Fort Worth\, get ready! &#10024\;&#128680\;</span></strong></span></section>\n\n<section class="text-token-text-primary w-full focus:outline-none [--shadow-height:45px] has-data-writing-block:pointer-events-none has-data-writing-block:-mt-(--shadow-height) has-data-writing-block:pt-(--shadow-height) [&amp\;:has([data-writing-block])&gt\;*]:pointer-events-auto scroll-mt-[calc(var(--header-height)+min(200px\,max(70px\,20svh)))]" data-scroll-anchor="true" data-testid="conversation-turn-32" data-turn="assistant" data-turn-id="request-69ddc0f0-9918-8329-9124-1138d72b96e2-0" dir="auto">\n<div class="text-base my-auto mx-auto pb-10 [--thread-content-margin:var(--thread-content-margin-xs\,calc(var(--spacing)*4))] @w-sm/main:[--thread-content-margin:var(--thread-content-margin-sm\,calc(var(--spacing)*6))] @w-lg/main:[--thread-content-margin:var(--thread-content-margin-lg\,calc(var(--spacing)*16))] px-(--thread-content-margin)">\n<div class="[--thread-content-max-width:40rem] @w-lg/main:[--thread-content-max-width:48rem] mx-auto max-w-(--thread-content-max-width) flex-1 group/turn-messages focus-visible:outline-hidden relative flex w-full min-w-0 flex-col agent-turn">\n<div class="flex max-w-full flex-col gap-4 grow">\n<div class="min-h-8 text-message relative flex w-full flex-col items-end gap-2 text-start break-words whitespace-normal outline-none keyboard-focused:focus-ring [.text-message+&amp\;]:mt-1" data-message-author-role="assistant" data-message-id="9cd288ee-aebe-4449-b52f-2c9a6212f39d" data-message-model-slug="gpt-5-2-instant" data-turn-start-message="true" dir="auto" tabindex="0">\n<div class="flex w-full flex-col gap-1 empty:hidden">\n<div class="markdown prose dark:prose-invert w-full wrap-break-word light markdown-new-styling">\n<p data-end="162" data-start="34"><span style="font-size:16px\;"><span style="font-family:arial\;">We&rsquo\;re cutting the ribbon and turning up the sweetness for the <strong data-end="132" data-start="96">Grand Opening of The Chosen Spot\,&nbsp\;</strong>and you&rsquo\;re invited! &#127872\;&#127827\;&#9749\;<br />\n<br />\nThe Chosen Spot is officially rolling in as Fort Worth&rsquo\;s newest food truck serving up all the sweet vibes\, think decadent treats\, chocolate-covered strawberries\, pancakes stacked high\, coffee on the go\, and desserts made to satisfy every craving. &#127851\;&#129374\;&#127827\;<br />\n<br />\nCome show love\, grab something delicious\, snap a photo\, and help us welcome The Chosen Spot to the neighborhood the right way. &#127881\;&#10024\;</span></span></p>\n</div>\n</div>\n</div>\n</div>\n</div>\n</div>\n</section>\n
LOCATION:2010 Avondale Haslet Rd.\, Haslet\, TX 76053
UID:e.2826.5119340
SEQUENCE:3
DTSTAMP:20260421T062028Z
URL:https://business.fwhcc.org/events/details/2026-ribbon-cutting-the-chosen-spot-grand-opening-5119340
END:VEVENT

END:VCALENDAR
