BEGIN:VCALENDAR
VERSION:2.0
PRODID:-//ChamberMaster//Event Calendar 2.0//EN
METHOD:PUBLISH
X-PUBLISHED-TTL:P3D
REFRESH-INTERVAL:P3D
CALSCALE:GREGORIAN
BEGIN:VEVENT
DTSTART:20260915T020000Z
DTEND:20260915T220000Z
X-MICROSOFT-CDO-ALLDAYEVENT:FALSE
SUMMARY:2nd International Conference on Polymer Science and Composite Materials
DESCRIPTION:Dear Dr. \, Warm greetings! It is our pleasure to extend a cordial invitation for you to participate as a Speaker / Delegate at the "2nd International Conference on Polymer Science and Composite Materials''\, scheduled for September 14-15\, 2026 in Rome\, Italy. Venue: Hotel Occidental Aurelia Via di Torre Rossa 80\, Rome\, Italy\, 00165 This year's congress will focus on the theme: "Smart Polymers and High-Performance Composites: Bridging Research and Applications." Attendees and presenters can expect the following benefits: 1. CPD credits awarded to all registered participants. 2. Conference proceedings and accepted abstracts published with DOI. 3. Certificate of participation for speakers and delegates. 4. Special discounts for group registrations. 5. Daily lunch and tea/coffee breaks during conference days. 6. Conference handbook and delegate materials. 7. Full access to scientific sessions\, poster sessions and exhibitions. 8. Complimentary Wi-Fi in meeting rooms. 9. Accreditation and recognition from the Organizing Committee. For further details\, including the full program\, registration options and venue information\, visit our website: Conference Homepage To submit your abstract go through the below website\; Submit your abstract We would be honored to have your expertise and insights at the congress. Should you have any questions or require assistance\, please do not hesitate to contact us. We look forward to welcoming you to Rome\, Italy and to engaging\, impactful discussions. Best regards\, Jessica Garrett | Conference Manager Polymer Science 2026   Rome\, Italy Inovine Meetings LLC 2C Pecan Hill Drive\, Clinton\, Mississippi\, 39056\, USA WA: +46-766-920-017 E: polymerscience@inovinemeetings.com
X-ALT-DESC;FMTTYPE=text/html:Dear Dr. \, Warm greetings! It is our pleasure to extend a cordial invitation for you to participate as a Speaker / Delegate at the &ldquo\;2nd International Conference on Polymer Science and Composite Materials&rsquo\;&rsquo\;\, scheduled for September 14-15\, 2026 in Rome\, Italy. Venue: Hotel Occidental Aurelia Via di Torre Rossa 80\, Rome\, Italy\, 00165 This year&rsquo\;s congress will focus on the theme: &ldquo\;Smart Polymers and High-Performance Composites: Bridging Research and Applications.&rdquo\; Attendees and presenters can expect the following benefits: 1. CPD credits awarded to all registered participants. 2. Conference proceedings and accepted abstracts published with DOI. 3. Certificate of participation for speakers and delegates. 4. Special discounts for group registrations. 5. Daily lunch and tea/coffee breaks during conference days. 6. Conference handbook and delegate materials. 7. Full access to scientific sessions\, poster sessions and exhibitions. 8. Complimentary Wi-Fi in meeting rooms. 9. Accreditation and recognition from the Organizing Committee. For further details\, including the full program\, registration options and venue information\, visit our website: Conference Homepage To submit your abstract go through the below website\; Submit your abstract We would be honored to have your expertise and insights at the congress. Should you have any questions or require assistance\, please do not hesitate to contact us. We look forward to welcoming you to Rome\, Italy and to engaging\, impactful discussions. Best regards\, Jessica Garrett | Conference Manager Polymer Science 2026 &ndash\; Rome\, Italy Inovine Meetings LLC 2C Pecan Hill Drive\, Clinton\, Mississippi\, 39056\, USA WA: +46-766-920-017 E: polymerscience@inovinemeetings.com
LOCATION:Rome
UID:e.2826.5119344
SEQUENCE:3
DTSTAMP:20260423T213057Z
URL:https://business.fwhcc.org/events/details/2nd-international-conference-on-polymer-science-and-composite-materials-5119344
END:VEVENT

END:VCALENDAR
