BEGIN:VCALENDAR
VERSION:2.0
PRODID:-//ChamberMaster//Event Calendar 2.0//EN
METHOD:PUBLISH
X-PUBLISHED-TTL:P3D
REFRESH-INTERVAL:P3D
CALSCALE:GREGORIAN
BEGIN:VEVENT
DTSTART:20260514T230000Z
DTEND:20260515T010000Z
X-MICROSOFT-CDO-ALLDAYEVENT:FALSE
SUMMARY:MACE Scholarship 12th Annual Spring Fundraiser
DESCRIPTION:We invite you to an evening of community\, connection\, and celebration   featuring tacos\, aguas frescas\, live music\, tequila tasting\, wine pull\, silent auction\, and more. Enjoy conversations with leaders\, sponsors\, and supporters who are passionate about helping our local Tarrant County students succeed.
X-ALT-DESC;FMTTYPE=text/html:We invite you to an evening of community\, connection\, and celebration &mdash\; featuring tacos\, aguas frescas\, live music\, tequila tasting\, wine pull\, silent auction\, and more. Enjoy conversations with leaders\, sponsors\, and supporters who are passionate about helping our local Tarrant County students succeed.
LOCATION:Artspace 111 111 Hampton Street Fort Worth\, TX 76102
UID:e.2826.5119331
SEQUENCE:3
DTSTAMP:20260424T011127Z
URL:https://business.fwhcc.org/events/details/mace-scholarship-12th-annual-spring-fundraiser-5119331
END:VEVENT

END:VCALENDAR
