BEGIN:VCALENDAR
VERSION:2.0
PRODID:-//ChamberMaster//Event Calendar 2.0//EN
METHOD:PUBLISH
X-PUBLISHED-TTL:P3D
REFRESH-INTERVAL:P3D
CALSCALE:GREGORIAN
BEGIN:VEVENT
DTSTART:20260428T140000Z
DTEND:20260428T150000Z
X-MICROSOFT-CDO-ALLDAYEVENT:FALSE
SUMMARY:Pre-Bid Meeting (PW Brick Pavement Rehabilitation Unit Price Contract)
DESCRIPTION:Project Description:\n\nThe major work will consist of the (approximate) following: brick pavement\, brick sidewalk and brick curb ramp repair and/or replacement\, repair and installation of concrete curb & gutter\, curb ramps\, sidewalk and driveways. The purpose of this invitation is to set unit prices. The City's contract budget may be less than the bid amount\; therefore\, the City is not obligated to award the contract for the full bid amount. The contract may be renewed up to 2 (two) additional terms\, upon the expiration of contract funds\, under the same terms\, conditions\, and unit prices. In no event shall the contract's total time exceed five years from the initial Effective Date.\n\n\n\nAdditional Bid Details: https://fortworthtexas.bonfirehub.com/opportunities/231367\n\n\n\nProcurement Type: Construction/Public Works\n\nCommodity Codes:\n\nNIGP 91244 Excavation Services\n\nNIGP 91319 Construction\, Curb and Gutter\, Including Maintenance\, Repair\, and Removal Services\n\nNIGP 91347 Construction\, Sidewalk and Driveway\, Including Pedestrian and Handicap Ramps\n\nNIGP 91371 Maintenance and Repair\, Highway and Roads\, Including Removal of Asphalt\, Concrete\, Bitumens\, etc.\n\nNIGP 91382 Maintenance and Repair\, Sidewalk and Driveway\, Including Removal\n\nNIGP 91395 Paving and Resurfacing\, Highway and Road\n\nNIGP 91396 Paving and Resurfacing\, Streets\, Major and Residential\n\nNIGP 91430 Concrete\n\nNIGP 96884 Traffic Control Services\, Including Placement and Removal of Control Devices
X-ALT-DESC;FMTTYPE=text/html:<span style="font-size:14px\;"><span style="font-family:arial\;"><b style="margin: 0px\; padding: 0px\; border: 0px\; font-variant-numeric: inherit\; font-variant-east-asian: inherit\; font-variant-alternates: inherit\; font-variant-position: inherit\; font-variant-emoji: inherit\; font-stretch: inherit\; font-size: 14px\; line-height: inherit\; font-family: Helvetica\, Arial\, sans-serif\; font-optical-sizing: inherit\; font-size-adjust: inherit\; font-kerning: inherit\; font-feature-settings: inherit\; font-variation-settings: inherit\; font-language-override: inherit\; vertical-align: baseline\; -webkit-font-smoothing: antialiased !important\; font-weight: bold !important\;">Project Description:</b></span></span>\n<div class="bfMarkdown markdown_formatted" style="margin: 0px\; padding: 0px\; border: 0px\; font-variant-numeric: inherit\; font-variant-east-asian: inherit\; font-variant-alternates: inherit\; font-variant-position: inherit\; font-variant-emoji: inherit\; font-stretch: inherit\; font-size: 14px\; line-height: 1.42857\; font-family: &quot\;Helvetica Neue&quot\;\, Helvetica\, Arial\, sans-serif\; font-optical-sizing: inherit\; font-size-adjust: inherit\; font-kerning: inherit\; font-feature-settings: inherit\; font-variation-settings: inherit\; font-language-override: inherit\; vertical-align: baseline\; text-size-adjust: 100%\; -webkit-tap-highlight-color: rgba(0\, 0\, 0\, 0)\; white-space-collapse: preserve\; -webkit-font-smoothing: antialiased !important\;">\n<p style="-webkit-font-smoothing: antialiased !important\; margin: 0px 0px 10px\; padding: 0px\; border: 0px\; font-style: inherit\; font-variant: inherit\; font-weight: inherit\; font-stretch: inherit\; font-size: inherit\; line-height: 1.3em\; font-family: inherit\; font-optical-sizing: inherit\; font-size-adjust: inherit\; font-kerning: inherit\; font-feature-settings: inherit\; font-variation-settings: inherit\; font-language-override: inherit\; vertical-align: baseline\; box-sizing: border-box\;"><span style="font-size:14px\;"><span style="font-family:arial\;">The major work will consist of the (approximate) following: brick pavement\, brick sidewalk and brick curb ramp repair and/or replacement\, repair and installation of concrete curb &amp\; gutter\, curb ramps\, sidewalk and driveways. The purpose of this invitation is to set unit prices. The City&rsquo\;s contract budget may be less than the bid amount\; therefore\, the City is not obligated to award the contract for the full bid amount. The contract may be renewed up to 2 (two) additional terms\, upon the expiration of contract funds\, under the same terms\, conditions\, and unit prices. In no event shall the contract&rsquo\;s total time exceed five years from the initial Effective Date.</span></span><br />\n<br />\n<span style="font-family: Helvetica\, Arial\, sans-serif\; font-size: 14px\; white-space-collapse: preserve\;"><span style="font-family: arial\;"><strong style="margin: 0px\; padding: 0px\; border: 0px\; font-style: inherit\; font-variant: inherit\; font-stretch: inherit\; font-size: inherit\; line-height: inherit\; font-family: inherit\; font-optical-sizing: inherit\; font-size-adjust: inherit\; font-kerning: inherit\; font-feature-settings: inherit\; font-variation-settings: inherit\; font-language-override: inherit\; vertical-align: baseline\; -webkit-font-smoothing: antialiased !important\; font-weight: bold !important\;">Additional Bid Details: </strong></span></span><a href="https://fortworthtexas.bonfirehub.com/opportunities/231367" style="font-family: Helvetica\, Arial\, sans-serif\; font-size: 14px\; white-space-collapse: preserve\;">https://fortworthtexas.bonfirehub.com/opportunities/231367</a><br />\n<br />\n<span style="font-size:14px\;"><span style="font-family:arial\;"><b style="margin: 0px\; padding: 0px\; border: 0px\; font-variant-numeric: inherit\; font-variant-east-asian: inherit\; font-variant-alternates: inherit\; font-variant-position: inherit\; font-variant-emoji: inherit\; font-stretch: inherit\; font-size: 14px\; line-height: inherit\; font-family: Helvetica\, Arial\, sans-serif\; font-optical-sizing: inherit\; font-size-adjust: inherit\; font-kerning: inherit\; font-feature-settings: inherit\; font-variation-settings: inherit\; font-language-override: inherit\; vertical-align: baseline\; -webkit-font-smoothing: antialiased !important\; font-weight: bold !important\;">Procurement Type:</b>&nbsp\;Construction/Public Works</span></span></p>\n\n<h3 style="margin: 0px\; padding: 0px\; border: 0px\; font-variant-numeric: inherit\; font-variant-east-asian: inherit\; font-variant-alternates: inherit\; font-variant-position: inherit\; font-variant-emoji: inherit\; font-weight: bold\; font-stretch: inherit\; font-size: 16px\; line-height: 1\; font-family: Helvetica\, Arial\, sans-serif\; font-optical-sizing: inherit\; font-size-adjust: inherit\; font-kerning: inherit\; font-feature-settings: inherit\; font-variation-settings: inherit\; font-language-override: inherit\; vertical-align: baseline\; -webkit-font-smoothing: antialiased !important\;"><span style="font-size:14px\;"><span style="font-family:arial\;">Commodity Codes:</span></span></h3>\n\n<div style="margin: 0px\; padding: 0px\; border: 0px\; font-variant-numeric: inherit\; font-variant-east-asian: inherit\; font-variant-alternates: inherit\; font-variant-position: inherit\; font-variant-emoji: inherit\; font-stretch: inherit\; font-size: 14px\; line-height: inherit\; font-family: Helvetica\, Arial\, sans-serif\; font-optical-sizing: inherit\; font-size-adjust: inherit\; font-kerning: inherit\; font-feature-settings: inherit\; font-variation-settings: inherit\; font-language-override: inherit\; vertical-align: baseline\; -webkit-font-smoothing: antialiased !important\;"><span style="font-size:14px\;"><span style="font-family:arial\;"><span class="commodityCodeBadge" style="margin: 0px\; padding: 3px 4px\; border: 0px\; font-style: inherit\; font-variant: inherit\; font-weight: bold\; font-stretch: inherit\; line-height: inherit\; font-optical-sizing: inherit\; font-size-adjust: inherit\; font-kerning: inherit\; font-feature-settings: inherit\; font-variation-settings: inherit\; font-language-override: inherit\; vertical-align: baseline\; display: inline\; width: auto\; text-transform: uppercase\; color: rgb(255\, 255\, 255)\; background-color: rgb(28\, 125\, 183)\; text-align: center\; border-radius: 4px\; -webkit-font-smoothing: antialiased !important\;">NIGP&nbsp\;91244</span>&nbsp\;<strong style="-webkit-font-smoothing: antialiased !important\; margin: 0px\; padding: 0px\; border: 0px\; font-style: inherit\; font-variant: inherit\; font-weight: bold !important\; font-stretch: inherit\; font-size: inherit\; line-height: inherit\; font-family: inherit\; font-optical-sizing: inherit\; font-size-adjust: inherit\; font-kerning: inherit\; font-feature-settings: inherit\; font-variation-settings: inherit\; font-language-override: inherit\; vertical-align: baseline\;">Excavation Services</strong></span></span></div>\n\n<div style="margin: 0px\; padding: 0px\; border: 0px\; font-variant-numeric: inherit\; font-variant-east-asian: inherit\; font-variant-alternates: inherit\; font-variant-position: inherit\; font-variant-emoji: inherit\; font-stretch: inherit\; font-size: 14px\; line-height: inherit\; font-family: Helvetica\, Arial\, sans-serif\; font-optical-sizing: inherit\; font-size-adjust: inherit\; font-kerning: inherit\; font-feature-settings: inherit\; font-variation-settings: inherit\; font-language-override: inherit\; vertical-align: baseline\; -webkit-font-smoothing: antialiased !important\;"><span style="font-size:14px\;"><span style="font-family:arial\;"><span class="commodityCodeBadge" style="margin: 0px\; padding: 3px 4px\; border: 0px\; font-style: inherit\; font-variant: inherit\; font-weight: bold\; font-stretch: inherit\; line-height: inherit\; font-optical-sizing: inherit\; font-size-adjust: inherit\; font-kerning: inherit\; font-feature-settings: inherit\; font-variation-settings: inherit\; font-language-override: inherit\; vertical-align: baseline\; display: inline\; width: auto\; text-transform: uppercase\; color: rgb(255\, 255\, 255)\; background-color: rgb(28\, 125\, 183)\; text-align: center\; border-radius: 4px\; -webkit-font-smoothing: antialiased !important\;">NIGP&nbsp\;91319</span>&nbsp\;<strong style="-webkit-font-smoothing: antialiased !important\; margin: 0px\; padding: 0px\; border: 0px\; font-style: inherit\; font-variant: inherit\; font-weight: bold !important\; font-stretch: inherit\; font-size: inherit\; line-height: inherit\; font-family: inherit\; font-optical-sizing: inherit\; font-size-adjust: inherit\; font-kerning: inherit\; font-feature-settings: inherit\; font-variation-settings: inherit\; font-language-override: inherit\; vertical-align: baseline\;">Construction\, Curb and Gutter\, Including Maintenance\, Repair\, and Removal Services</strong></span></span></div>\n\n<div style="margin: 0px\; padding: 0px\; border: 0px\; font-variant-numeric: inherit\; font-variant-east-asian: inherit\; font-variant-alternates: inherit\; font-variant-position: inherit\; font-variant-emoji: inherit\; font-stretch: inherit\; font-size: 14px\; line-height: inherit\; font-family: Helvetica\, Arial\, sans-serif\; font-optical-sizing: inherit\; font-size-adjust: inherit\; font-kerning: inherit\; font-feature-settings: inherit\; font-variation-settings: inherit\; font-language-override: inherit\; vertical-align: baseline\; -webkit-font-smoothing: antialiased !important\;"><span style="font-size:14px\;"><span style="font-family:arial\;"><span class="commodityCodeBadge" style="margin: 0px\; padding: 3px 4px\; border: 0px\; font-style: inherit\; font-variant: inherit\; font-weight: bold\; font-stretch: inherit\; line-height: inherit\; font-optical-sizing: inherit\; font-size-adjust: inherit\; font-kerning: inherit\; font-feature-settings: inherit\; font-variation-settings: inherit\; font-language-override: inherit\; vertical-align: baseline\; display: inline\; width: auto\; text-transform: uppercase\; color: rgb(255\, 255\, 255)\; background-color: rgb(28\, 125\, 183)\; text-align: center\; border-radius: 4px\; -webkit-font-smoothing: antialiased !important\;">NIGP&nbsp\;91347</span>&nbsp\;<strong style="-webkit-font-smoothing: antialiased !important\; margin: 0px\; padding: 0px\; border: 0px\; font-style: inherit\; font-variant: inherit\; font-weight: bold !important\; font-stretch: inherit\; font-size: inherit\; line-height: inherit\; font-family: inherit\; font-optical-sizing: inherit\; font-size-adjust: inherit\; font-kerning: inherit\; font-feature-settings: inherit\; font-variation-settings: inherit\; font-language-override: inherit\; vertical-align: baseline\;">Construction\, Sidewalk and Driveway\, Including Pedestrian and Handicap Ramps</strong></span></span></div>\n\n<div style="margin: 0px\; padding: 0px\; border: 0px\; font-variant-numeric: inherit\; font-variant-east-asian: inherit\; font-variant-alternates: inherit\; font-variant-position: inherit\; font-variant-emoji: inherit\; font-stretch: inherit\; font-size: 14px\; line-height: inherit\; font-family: Helvetica\, Arial\, sans-serif\; font-optical-sizing: inherit\; font-size-adjust: inherit\; font-kerning: inherit\; font-feature-settings: inherit\; font-variation-settings: inherit\; font-language-override: inherit\; vertical-align: baseline\; -webkit-font-smoothing: antialiased !important\;"><span style="font-size:14px\;"><span style="font-family:arial\;"><span class="commodityCodeBadge" style="margin: 0px\; padding: 3px 4px\; border: 0px\; font-style: inherit\; font-variant: inherit\; font-weight: bold\; font-stretch: inherit\; line-height: inherit\; font-optical-sizing: inherit\; font-size-adjust: inherit\; font-kerning: inherit\; font-feature-settings: inherit\; font-variation-settings: inherit\; font-language-override: inherit\; vertical-align: baseline\; display: inline\; width: auto\; text-transform: uppercase\; color: rgb(255\, 255\, 255)\; background-color: rgb(28\, 125\, 183)\; text-align: center\; border-radius: 4px\; -webkit-font-smoothing: antialiased !important\;">NIGP&nbsp\;91371</span>&nbsp\;<strong style="-webkit-font-smoothing: antialiased !important\; margin: 0px\; padding: 0px\; border: 0px\; font-style: inherit\; font-variant: inherit\; font-weight: bold !important\; font-stretch: inherit\; font-size: inherit\; line-height: inherit\; font-family: inherit\; font-optical-sizing: inherit\; font-size-adjust: inherit\; font-kerning: inherit\; font-feature-settings: inherit\; font-variation-settings: inherit\; font-language-override: inherit\; vertical-align: baseline\;">Maintenance and Repair\, Highway and Roads\, Including Removal of Asphalt\, Concrete\, Bitumens\, etc.</strong></span></span></div>\n\n<div style="margin: 0px\; padding: 0px\; border: 0px\; font-variant-numeric: inherit\; font-variant-east-asian: inherit\; font-variant-alternates: inherit\; font-variant-position: inherit\; font-variant-emoji: inherit\; font-stretch: inherit\; font-size: 14px\; line-height: inherit\; font-family: Helvetica\, Arial\, sans-serif\; font-optical-sizing: inherit\; font-size-adjust: inherit\; font-kerning: inherit\; font-feature-settings: inherit\; font-variation-settings: inherit\; font-language-override: inherit\; vertical-align: baseline\; -webkit-font-smoothing: antialiased !important\;"><span style="font-size:14px\;"><span style="font-family:arial\;"><span class="commodityCodeBadge" style="margin: 0px\; padding: 3px 4px\; border: 0px\; font-style: inherit\; font-variant: inherit\; font-weight: bold\; font-stretch: inherit\; line-height: inherit\; font-optical-sizing: inherit\; font-size-adjust: inherit\; font-kerning: inherit\; font-feature-settings: inherit\; font-variation-settings: inherit\; font-language-override: inherit\; vertical-align: baseline\; display: inline\; width: auto\; text-transform: uppercase\; color: rgb(255\, 255\, 255)\; background-color: rgb(28\, 125\, 183)\; text-align: center\; border-radius: 4px\; -webkit-font-smoothing: antialiased !important\;">NIGP&nbsp\;91382</span>&nbsp\;<strong style="-webkit-font-smoothing: antialiased !important\; margin: 0px\; padding: 0px\; border: 0px\; font-style: inherit\; font-variant: inherit\; font-weight: bold !important\; font-stretch: inherit\; font-size: inherit\; line-height: inherit\; font-family: inherit\; font-optical-sizing: inherit\; font-size-adjust: inherit\; font-kerning: inherit\; font-feature-settings: inherit\; font-variation-settings: inherit\; font-language-override: inherit\; vertical-align: baseline\;">Maintenance and Repair\, Sidewalk and Driveway\, Including Removal</strong></span></span></div>\n\n<div style="margin: 0px\; padding: 0px\; border: 0px\; font-variant-numeric: inherit\; font-variant-east-asian: inherit\; font-variant-alternates: inherit\; font-variant-position: inherit\; font-variant-emoji: inherit\; font-stretch: inherit\; font-size: 14px\; line-height: inherit\; font-family: Helvetica\, Arial\, sans-serif\; font-optical-sizing: inherit\; font-size-adjust: inherit\; font-kerning: inherit\; font-feature-settings: inherit\; font-variation-settings: inherit\; font-language-override: inherit\; vertical-align: baseline\; -webkit-font-smoothing: antialiased !important\;"><span style="font-size:14px\;"><span style="font-family:arial\;"><span class="commodityCodeBadge" style="margin: 0px\; padding: 3px 4px\; border: 0px\; font-style: inherit\; font-variant: inherit\; font-weight: bold\; font-stretch: inherit\; line-height: inherit\; font-optical-sizing: inherit\; font-size-adjust: inherit\; font-kerning: inherit\; font-feature-settings: inherit\; font-variation-settings: inherit\; font-language-override: inherit\; vertical-align: baseline\; display: inline\; width: auto\; text-transform: uppercase\; color: rgb(255\, 255\, 255)\; background-color: rgb(28\, 125\, 183)\; text-align: center\; border-radius: 4px\; -webkit-font-smoothing: antialiased !important\;">NIGP&nbsp\;91395</span>&nbsp\;<strong style="-webkit-font-smoothing: antialiased !important\; margin: 0px\; padding: 0px\; border: 0px\; font-style: inherit\; font-variant: inherit\; font-weight: bold !important\; font-stretch: inherit\; font-size: inherit\; line-height: inherit\; font-family: inherit\; font-optical-sizing: inherit\; font-size-adjust: inherit\; font-kerning: inherit\; font-feature-settings: inherit\; font-variation-settings: inherit\; font-language-override: inherit\; vertical-align: baseline\;">Paving and Resurfacing\, Highway and Road</strong></span></span></div>\n\n<div style="margin: 0px\; padding: 0px\; border: 0px\; font-variant-numeric: inherit\; font-variant-east-asian: inherit\; font-variant-alternates: inherit\; font-variant-position: inherit\; font-variant-emoji: inherit\; font-stretch: inherit\; font-size: 14px\; line-height: inherit\; font-family: Helvetica\, Arial\, sans-serif\; font-optical-sizing: inherit\; font-size-adjust: inherit\; font-kerning: inherit\; font-feature-settings: inherit\; font-variation-settings: inherit\; font-language-override: inherit\; vertical-align: baseline\; -webkit-font-smoothing: antialiased !important\;"><span style="font-size:14px\;"><span style="font-family:arial\;"><span class="commodityCodeBadge" style="margin: 0px\; padding: 3px 4px\; border: 0px\; font-style: inherit\; font-variant: inherit\; font-weight: bold\; font-stretch: inherit\; line-height: inherit\; font-optical-sizing: inherit\; font-size-adjust: inherit\; font-kerning: inherit\; font-feature-settings: inherit\; font-variation-settings: inherit\; font-language-override: inherit\; vertical-align: baseline\; display: inline\; width: auto\; text-transform: uppercase\; color: rgb(255\, 255\, 255)\; background-color: rgb(28\, 125\, 183)\; text-align: center\; border-radius: 4px\; -webkit-font-smoothing: antialiased !important\;">NIGP&nbsp\;91396</span>&nbsp\;<strong style="-webkit-font-smoothing: antialiased !important\; margin: 0px\; padding: 0px\; border: 0px\; font-style: inherit\; font-variant: inherit\; font-weight: bold !important\; font-stretch: inherit\; font-size: inherit\; line-height: inherit\; font-family: inherit\; font-optical-sizing: inherit\; font-size-adjust: inherit\; font-kerning: inherit\; font-feature-settings: inherit\; font-variation-settings: inherit\; font-language-override: inherit\; vertical-align: baseline\;">Paving and Resurfacing\, Streets\, Major and Residential</strong></span></span></div>\n\n<div style="margin: 0px\; padding: 0px\; border: 0px\; font-variant-numeric: inherit\; font-variant-east-asian: inherit\; font-variant-alternates: inherit\; font-variant-position: inherit\; font-variant-emoji: inherit\; font-stretch: inherit\; font-size: 14px\; line-height: inherit\; font-family: Helvetica\, Arial\, sans-serif\; font-optical-sizing: inherit\; font-size-adjust: inherit\; font-kerning: inherit\; font-feature-settings: inherit\; font-variation-settings: inherit\; font-language-override: inherit\; vertical-align: baseline\; -webkit-font-smoothing: antialiased !important\;"><span style="font-size:14px\;"><span style="font-family:arial\;"><span class="commodityCodeBadge" style="margin: 0px\; padding: 3px 4px\; border: 0px\; font-style: inherit\; font-variant: inherit\; font-weight: bold\; font-stretch: inherit\; line-height: inherit\; font-optical-sizing: inherit\; font-size-adjust: inherit\; font-kerning: inherit\; font-feature-settings: inherit\; font-variation-settings: inherit\; font-language-override: inherit\; vertical-align: baseline\; display: inline\; width: auto\; text-transform: uppercase\; color: rgb(255\, 255\, 255)\; background-color: rgb(28\, 125\, 183)\; text-align: center\; border-radius: 4px\; -webkit-font-smoothing: antialiased !important\;">NIGP&nbsp\;91430</span>&nbsp\;<strong style="-webkit-font-smoothing: antialiased !important\; margin: 0px\; padding: 0px\; border: 0px\; font-style: inherit\; font-variant: inherit\; font-weight: bold !important\; font-stretch: inherit\; font-size: inherit\; line-height: inherit\; font-family: inherit\; font-optical-sizing: inherit\; font-size-adjust: inherit\; font-kerning: inherit\; font-feature-settings: inherit\; font-variation-settings: inherit\; font-language-override: inherit\; vertical-align: baseline\;">Concrete</strong></span></span></div>\n\n<div style="margin: 0px\; padding: 0px\; border: 0px\; font-variant-numeric: inherit\; font-variant-east-asian: inherit\; font-variant-alternates: inherit\; font-variant-position: inherit\; font-variant-emoji: inherit\; font-stretch: inherit\; font-size: 14px\; line-height: inherit\; font-family: Helvetica\, Arial\, sans-serif\; font-optical-sizing: inherit\; font-size-adjust: inherit\; font-kerning: inherit\; font-feature-settings: inherit\; font-variation-settings: inherit\; font-language-override: inherit\; vertical-align: baseline\; -webkit-font-smoothing: antialiased !important\;"><span style="font-size:14px\;"><span style="font-family:arial\;"><span class="commodityCodeBadge" style="margin: 0px\; padding: 3px 4px\; border: 0px\; font-style: inherit\; font-variant: inherit\; font-weight: bold\; font-stretch: inherit\; line-height: inherit\; font-optical-sizing: inherit\; font-size-adjust: inherit\; font-kerning: inherit\; font-feature-settings: inherit\; font-variation-settings: inherit\; font-language-override: inherit\; vertical-align: baseline\; display: inline\; width: auto\; text-transform: uppercase\; color: rgb(255\, 255\, 255)\; background-color: rgb(28\, 125\, 183)\; text-align: center\; border-radius: 4px\; -webkit-font-smoothing: antialiased !important\;">NIGP&nbsp\;96884</span>&nbsp\;<strong style="-webkit-font-smoothing: antialiased !important\; margin: 0px\; padding: 0px\; border: 0px\; font-style: inherit\; font-variant: inherit\; font-weight: bold !important\; font-stretch: inherit\; font-size: inherit\; line-height: inherit\; font-family: inherit\; font-optical-sizing: inherit\; font-size-adjust: inherit\; font-kerning: inherit\; font-feature-settings: inherit\; font-variation-settings: inherit\; font-language-override: inherit\; vertical-align: baseline\;">Traffic Control Services\, Including Placement and Removal of Control Devices</strong></span></span><br />\n<br />\n&nbsp\;</div>\n</div>\n
LOCATION:https://teams.microsoft.com/meet/268641338620035?p=W2HNWdMAjIEYv3VAcr Meeting ID: 268 641 338 620 035 Passcode: qc75AH2Z
UID:e.2826.5119343
SEQUENCE:3
DTSTAMP:20260420T203116Z
URL:https://business.fwhcc.org/events/details/pre-bid-meeting-pw-brick-pavement-rehabilitation-unit-price-contract-5119343
END:VEVENT

END:VCALENDAR
