BEGIN:VCALENDAR
VERSION:2.0
PRODID:-//ChamberMaster//Event Calendar 2.0//EN
METHOD:PUBLISH
X-PUBLISHED-TTL:P3D
REFRESH-INTERVAL:P3D
CALSCALE:GREGORIAN
BEGIN:VEVENT
DTSTART:20260421T150000Z
DTEND:20260421T160000Z
X-MICROSOFT-CDO-ALLDAYEVENT:FALSE
SUMMARY:Pre-Proposal Conference (RFP Tree Planting and Maintenance Services)
DESCRIPTION:Project Description:\n\nThe City of Fort Worth seeks proposals to finalize an Agreement for Tree Planting and Maintenance Services for the Park and Recreation Department on an "as needed" basis.\n\n\n\nAdditional Bid Details: https://fortworthtexas.bonfirehub.com/opportunities/228870\n\nCommodity Codes:\n\nNIGP 98852 Landscaping\, Including Design\, Fertilizing\, Planting\, etc.\, Not Grounds Maintenance or Tree Trimming Services
X-ALT-DESC;FMTTYPE=text/html:<span style="font-size:14px\;"><b style="margin: 0px\; padding: 0px\; border: 0px\; font-variant-numeric: inherit\; font-variant-east-asian: inherit\; font-variant-alternates: inherit\; font-variant-position: inherit\; font-variant-emoji: inherit\; font-stretch: inherit\; font-size: 14px\; line-height: inherit\; font-family: Helvetica\, Arial\, sans-serif\; font-optical-sizing: inherit\; font-size-adjust: inherit\; font-kerning: inherit\; font-feature-settings: inherit\; font-variation-settings: inherit\; font-language-override: inherit\; vertical-align: baseline\; -webkit-font-smoothing: antialiased !important\; font-weight: bold !important\;">Project Description:</b></span>\n<div class="bfMarkdown markdown_formatted" style="margin: 0px\; padding: 0px\; border: 0px\; font-variant-numeric: inherit\; font-variant-east-asian: inherit\; font-variant-alternates: inherit\; font-variant-position: inherit\; font-variant-emoji: inherit\; font-stretch: inherit\; font-size: 14px\; line-height: 1.42857\; font-family: &quot\;Helvetica Neue&quot\;\, Helvetica\, Arial\, sans-serif\; font-optical-sizing: inherit\; font-size-adjust: inherit\; font-kerning: inherit\; font-feature-settings: inherit\; font-variation-settings: inherit\; font-language-override: inherit\; vertical-align: baseline\; text-size-adjust: 100%\; -webkit-tap-highlight-color: rgba(0\, 0\, 0\, 0)\; white-space-collapse: preserve\; -webkit-font-smoothing: antialiased !important\;">\n<p style="-webkit-font-smoothing: antialiased !important\; margin: 0px 0px 10px\; padding: 0px\; border: 0px\; font-style: inherit\; font-variant: inherit\; font-weight: inherit\; font-stretch: inherit\; font-size: inherit\; line-height: 1.3em\; font-family: inherit\; font-optical-sizing: inherit\; font-size-adjust: inherit\; font-kerning: inherit\; font-feature-settings: inherit\; font-variation-settings: inherit\; font-language-override: inherit\; vertical-align: baseline\; box-sizing: border-box\;"><span style="font-size:14px\;">The City of Fort Worth seeks proposals to finalize an Agreement for Tree Planting and Maintenance Services for the Park and Recreation Department on an &quot\;as needed&quot\; basis.</span><br />\n<br />\n<strong style="font-family: inherit\; font-size: inherit\; font-style: inherit\; font-variant: inherit\; white-space-collapse: preserve\; margin: 0px\; padding: 0px\; border: 0px\; font-stretch: inherit\; line-height: inherit\; font-optical-sizing: inherit\; font-size-adjust: inherit\; font-kerning: inherit\; font-feature-settings: inherit\; font-variation-settings: inherit\; font-language-override: inherit\; vertical-align: baseline\; -webkit-font-smoothing: antialiased !important\; font-weight: bold !important\;">Additional Bid Details: </strong><a href="https://fortworthtexas.bonfirehub.com/opportunities/228870"><span style="font-family: Helvetica\, Arial\, sans-serif\; font-size: 14px\; white-space-collapse: preserve\;">https://fortworthtexas.bonfirehub.com/opportunities/228870</span></a></p>\n\n<h3 style="margin: 0px\; padding: 0px\; border: 0px\; font-variant-numeric: inherit\; font-variant-east-asian: inherit\; font-variant-alternates: inherit\; font-variant-position: inherit\; font-variant-emoji: inherit\; font-weight: bold\; font-stretch: inherit\; font-size: 16px\; line-height: 1\; font-family: Helvetica\, Arial\, sans-serif\; font-optical-sizing: inherit\; font-size-adjust: inherit\; font-kerning: inherit\; font-feature-settings: inherit\; font-variation-settings: inherit\; font-language-override: inherit\; vertical-align: baseline\; -webkit-font-smoothing: antialiased !important\;"><span style="font-size:14px\;">Commodity Codes:</span></h3>\n\n<div style="margin: 0px\; padding: 0px\; border: 0px\; font-variant-numeric: inherit\; font-variant-east-asian: inherit\; font-variant-alternates: inherit\; font-variant-position: inherit\; font-variant-emoji: inherit\; font-stretch: inherit\; font-size: 14px\; line-height: inherit\; font-family: Helvetica\, Arial\, sans-serif\; font-optical-sizing: inherit\; font-size-adjust: inherit\; font-kerning: inherit\; font-feature-settings: inherit\; font-variation-settings: inherit\; font-language-override: inherit\; vertical-align: baseline\; -webkit-font-smoothing: antialiased !important\;"><span style="font-size:14px\;"><span class="commodityCodeBadge" style="margin: 0px\; padding: 3px 4px\; border: 0px\; font-style: inherit\; font-variant: inherit\; font-weight: bold\; font-stretch: inherit\; line-height: inherit\; font-optical-sizing: inherit\; font-size-adjust: inherit\; font-kerning: inherit\; font-feature-settings: inherit\; font-variation-settings: inherit\; font-language-override: inherit\; vertical-align: baseline\; display: inline\; width: auto\; text-transform: uppercase\; color: rgb(255\, 255\, 255)\; background-color: rgb(28\, 125\, 183)\; text-align: center\; border-radius: 4px\; -webkit-font-smoothing: antialiased !important\;">NIGP&nbsp\;98852</span>&nbsp\;<strong style="-webkit-font-smoothing: antialiased !important\; margin: 0px\; padding: 0px\; border: 0px\; font-style: inherit\; font-variant: inherit\; font-weight: bold !important\; font-stretch: inherit\; font-size: inherit\; line-height: inherit\; font-family: inherit\; font-optical-sizing: inherit\; font-size-adjust: inherit\; font-kerning: inherit\; font-feature-settings: inherit\; font-variation-settings: inherit\; font-language-override: inherit\; vertical-align: baseline\;">Landscaping\, Including Design\, Fertilizing\, Planting\, etc.\, Not Grounds Maintenance or Tree Trimming Services</strong></span></div>\n</div>\n
LOCATION:In-Person: Conference Room. Located on the Mezzanine at the Fort Worth City Hall\, Conference Room #10\, Address\,100 Fort Worth Trail\, Fort Worth\, Texas 76102 and Microsoft Teams
UID:e.2826.5119342
SEQUENCE:3
DTSTAMP:20260420T202613Z
URL:https://business.fwhcc.org/events/details/pre-proposal-conference-rfp-tree-planting-and-maintenance-services-5119342
END:VEVENT

END:VCALENDAR
